BEGIN:VCALENDAR
VERSION:2.0
PRODID:-//Netzwerk NRW - ECPv6.15.20//NONSGML v1.0//EN
CALSCALE:GREGORIAN
METHOD:PUBLISH
X-ORIGINAL-URL:https://www.netzwerk-nrw.de
X-WR-CALDESC:Veranstaltungen für Netzwerk NRW
REFRESH-INTERVAL;VALUE=DURATION:PT1H
X-Robots-Tag:noindex
X-PUBLISHED-TTL:PT1H
BEGIN:VTIMEZONE
TZID:Europe/Berlin
BEGIN:DAYLIGHT
TZOFFSETFROM:+0100
TZOFFSETTO:+0200
TZNAME:CEST
DTSTART:20240331T010000
END:DAYLIGHT
BEGIN:STANDARD
TZOFFSETFROM:+0200
TZOFFSETTO:+0100
TZNAME:CET
DTSTART:20241027T010000
END:STANDARD
BEGIN:DAYLIGHT
TZOFFSETFROM:+0100
TZOFFSETTO:+0200
TZNAME:CEST
DTSTART:20250330T010000
END:DAYLIGHT
BEGIN:STANDARD
TZOFFSETFROM:+0200
TZOFFSETTO:+0100
TZNAME:CET
DTSTART:20251026T010000
END:STANDARD
BEGIN:DAYLIGHT
TZOFFSETFROM:+0100
TZOFFSETTO:+0200
TZNAME:CEST
DTSTART:20260329T010000
END:DAYLIGHT
BEGIN:STANDARD
TZOFFSETFROM:+0200
TZOFFSETTO:+0100
TZNAME:CET
DTSTART:20261025T010000
END:STANDARD
END:VTIMEZONE
BEGIN:VEVENT
DTSTART;TZID=Europe/Berlin:20250728T180000
DTEND;TZID=Europe/Berlin:20250728T201500
DTSTAMP:20260424T110015
CREATED:20250711T150609Z
LAST-MODIFIED:20250711T151355Z
UID:1802-1753725600-1753733700@www.netzwerk-nrw.de
SUMMARY:Video-Story-Workshop für neurodivergente FLINTA-Personen Teil 1
DESCRIPTION:Video-Story-Workshop für neurodivergente FLINTAS  \nDu hast ein Thema\, das gehört werden soll? In diesem kostenlosen Online-Workshop lernst du\, wie du daraus eine kurze Video-Story machst – direkt\, kreativ und mit deiner eigenen Perspektive. \nWann?Teil 1: 28. Juli 2025\, 18–20:15 UhrTeil 2: 11. August 2025\, 18–20:15 Uhr \nWo? Online via ZoomFür wen? Neurodivergente FLINTA-Personen \nFLINTA = Frauen\, Lesben\, inter\, nichtbinäre\, trans und agender Personen\n(Wenn du dich da reinzählst: Du bist gemeint.) \nAnmeldung: info@netzwerk-nrw.dePlätze begrenzt!
URL:https://www.netzwerk-nrw.de/event/video-story-workshop-fuer-neurodivergente-flinta-personen-teil-1/
LOCATION:Zoom
CATEGORIES:Aktionen,Neue Menschen willkommen,online
ORGANIZER;CN="Netzwerk-NRW":MAILTO:info@netzwerk-nrw.de
END:VEVENT
END:VCALENDAR